BEGIN:VCALENDAR
VERSION:2.0
PRODID:-//Midwest Krawlers - ECPv6.15.20//NONSGML v1.0//EN
CALSCALE:GREGORIAN
METHOD:PUBLISH
X-WR-CALNAME:Midwest Krawlers
X-ORIGINAL-URL:https://www.midwestkrawlers.com
X-WR-CALDESC:Events for Midwest Krawlers
REFRESH-INTERVAL;VALUE=DURATION:PT1H
X-Robots-Tag:noindex
X-PUBLISHED-TTL:PT1H
BEGIN:VTIMEZONE
TZID:America/Chicago
BEGIN:DAYLIGHT
TZOFFSETFROM:-0600
TZOFFSETTO:-0500
TZNAME:CDT
DTSTART:20250309T080000
END:DAYLIGHT
BEGIN:STANDARD
TZOFFSETFROM:-0500
TZOFFSETTO:-0600
TZNAME:CST
DTSTART:20251102T070000
END:STANDARD
BEGIN:DAYLIGHT
TZOFFSETFROM:-0600
TZOFFSETTO:-0500
TZNAME:CDT
DTSTART:20260308T080000
END:DAYLIGHT
BEGIN:STANDARD
TZOFFSETFROM:-0500
TZOFFSETTO:-0600
TZNAME:CST
DTSTART:20261101T070000
END:STANDARD
BEGIN:DAYLIGHT
TZOFFSETFROM:-0600
TZOFFSETTO:-0500
TZNAME:CDT
DTSTART:20270314T080000
END:DAYLIGHT
BEGIN:STANDARD
TZOFFSETFROM:-0500
TZOFFSETTO:-0600
TZNAME:CST
DTSTART:20271107T070000
END:STANDARD
END:VTIMEZONE
BEGIN:VEVENT
DTSTART;TZID=America/Chicago:20260311T170000
DTEND;TZID=America/Chicago:20260311T200000
DTSTAMP:20260424T140853
CREATED:20260215T171354Z
LAST-MODIFIED:20260215T171354Z
UID:6732-1773248400-1773259200@www.midwestkrawlers.com
SUMMARY:March Club Meeting @ The Kingdom
DESCRIPTION:Social Hour 5-7 pm\nMeeting 7-8 pm
URL:https://www.midwestkrawlers.com/event/march-club-meeting-the-kingdom/
LOCATION:The Kingdom Bar & Grille\, 12655 Antioch Road\, Overland Park\, KS\, 66213\, United States
END:VEVENT
END:VCALENDAR