BEGIN:VCALENDAR
VERSION:2.0
PRODID:-//Midwest Krawlers - ECPv6.15.20//NONSGML v1.0//EN
CALSCALE:GREGORIAN
METHOD:PUBLISH
X-ORIGINAL-URL:https://www.midwestkrawlers.com
X-WR-CALDESC:Events for Midwest Krawlers
REFRESH-INTERVAL;VALUE=DURATION:PT1H
X-Robots-Tag:noindex
X-PUBLISHED-TTL:PT1H
BEGIN:VTIMEZONE
TZID:America/Chicago
BEGIN:DAYLIGHT
TZOFFSETFROM:-0600
TZOFFSETTO:-0500
TZNAME:CDT
DTSTART:20250309T080000
END:DAYLIGHT
BEGIN:STANDARD
TZOFFSETFROM:-0500
TZOFFSETTO:-0600
TZNAME:CST
DTSTART:20251102T070000
END:STANDARD
BEGIN:DAYLIGHT
TZOFFSETFROM:-0600
TZOFFSETTO:-0500
TZNAME:CDT
DTSTART:20260308T080000
END:DAYLIGHT
BEGIN:STANDARD
TZOFFSETFROM:-0500
TZOFFSETTO:-0600
TZNAME:CST
DTSTART:20261101T070000
END:STANDARD
BEGIN:DAYLIGHT
TZOFFSETFROM:-0600
TZOFFSETTO:-0500
TZNAME:CDT
DTSTART:20270314T080000
END:DAYLIGHT
BEGIN:STANDARD
TZOFFSETFROM:-0500
TZOFFSETTO:-0600
TZNAME:CST
DTSTART:20271107T070000
END:STANDARD
END:VTIMEZONE
BEGIN:VEVENT
DTSTART;VALUE=DATE:20260502
DTEND;VALUE=DATE:20260503
DTSTAMP:20260424T123151
CREATED:20260215T171911Z
LAST-MODIFIED:20260404T164600Z
UID:6740-1777680000-1777766399@www.midwestkrawlers.com
SUMMARY:Adopt-A-Trail Cleanup Day
DESCRIPTION:Sign up here! Review the available slots and sign up… \nhttps://www.signupgenius.com/go/10C044EAAAB28A7FCC43-63329291-trail \n 
URL:https://www.midwestkrawlers.com/event/adopt-a-trail-cleanup-day/
LOCATION:Kansas Rocks Recreation Park KRRP\, 2051 130th Street\, 2051 130th St\, KS\, 66754
END:VEVENT
END:VCALENDAR