BEGIN:VCALENDAR
VERSION:2.0
PRODID:-//Midwest Krawlers - ECPv6.15.20//NONSGML v1.0//EN
CALSCALE:GREGORIAN
METHOD:PUBLISH
X-WR-CALNAME:Midwest Krawlers
X-ORIGINAL-URL:https://www.midwestkrawlers.com
X-WR-CALDESC:Events for Midwest Krawlers
REFRESH-INTERVAL;VALUE=DURATION:PT1H
X-Robots-Tag:noindex
X-PUBLISHED-TTL:PT1H
BEGIN:VTIMEZONE
TZID:America/Chicago
BEGIN:DAYLIGHT
TZOFFSETFROM:-0600
TZOFFSETTO:-0500
TZNAME:CDT
DTSTART:20250309T080000
END:DAYLIGHT
BEGIN:STANDARD
TZOFFSETFROM:-0500
TZOFFSETTO:-0600
TZNAME:CST
DTSTART:20251102T070000
END:STANDARD
BEGIN:DAYLIGHT
TZOFFSETFROM:-0600
TZOFFSETTO:-0500
TZNAME:CDT
DTSTART:20260308T080000
END:DAYLIGHT
BEGIN:STANDARD
TZOFFSETFROM:-0500
TZOFFSETTO:-0600
TZNAME:CST
DTSTART:20261101T070000
END:STANDARD
BEGIN:DAYLIGHT
TZOFFSETFROM:-0600
TZOFFSETTO:-0500
TZNAME:CDT
DTSTART:20270314T080000
END:DAYLIGHT
BEGIN:STANDARD
TZOFFSETFROM:-0500
TZOFFSETTO:-0600
TZNAME:CST
DTSTART:20271107T070000
END:STANDARD
END:VTIMEZONE
BEGIN:VEVENT
DTSTART;TZID=America/Chicago:20260208T130000
DTEND;TZID=America/Chicago:20260208T170000
DTSTAMP:20260425T091725
CREATED:20260107T212507Z
LAST-MODIFIED:20260107T213242Z
UID:6363-1770555600-1770570000@www.midwestkrawlers.com
SUMMARY:February 8 - MWK First Aid\, CPR\, and AED Training
DESCRIPTION:Are you prepared for an off-road emergency of the human kind?  That fancy socket set won’t help in a medical emergency! \nMWK has scheduled a 4 hour training course for 1st aid CPR and AED. 25 people max and $25 per person. If you want the CPR and AED certification from the American Heart Association it’s an additional $15 for the license . Any questions please don’t hesitate to reach out and ask. \nThis will be held at the Pleasant Valley Fire Dept\, 8108 Pleasant Valley Road\, Pleasant Valley\, MO \nSee Facebook event for  details. \n 
URL:https://www.midwestkrawlers.com/event/february-8-mwk-first-aid-cpr-and-aed-training/
LOCATION:KS
END:VEVENT
END:VCALENDAR